BEGIN:VCALENDAR
VERSION:2.0
PRODID:-//Niagara Frontier Watercolor Society - ECPv6.15.17.1//NONSGML v1.0//EN
CALSCALE:GREGORIAN
METHOD:PUBLISH
X-WR-CALNAME:Niagara Frontier Watercolor Society
X-ORIGINAL-URL:https://nfws.org
X-WR-CALDESC:Events for Niagara Frontier Watercolor Society
REFRESH-INTERVAL;VALUE=DURATION:PT1H
X-Robots-Tag:noindex
X-PUBLISHED-TTL:PT1H
BEGIN:VTIMEZONE
TZID:UTC
BEGIN:STANDARD
TZOFFSETFROM:+0000
TZOFFSETTO:+0000
TZNAME:UTC
DTSTART:20240101T000000
END:STANDARD
END:VTIMEZONE
BEGIN:VEVENT
DTSTART;TZID=UTC:20250320T160000
DTEND;TZID=UTC:20250320T180000
DTSTAMP:20260425T115925
CREATED:20250303T160228Z
LAST-MODIFIED:20250303T160228Z
UID:9527-1742486400-1742493600@nfws.org
SUMMARY:March Members Meeting and Demonstration by Marilynne Bradley on Zoom
DESCRIPTION:Following a brief Members Meeting\, we will be treated to the inventive approach to watercolor by Missouri Artist Marilynne Bradley. \nArtist’s Statement \nOver the years my work has slowly moved from the representational area towards the impressionist area and continues to invent itself in a structured geometric cubistic style. It is a journey\, and I suspect that there will be no final destination. \nMy primary focus is on expressing myself with abstract design\, color\, line\, texture\, pattern\, and mark-making. My paintings are shaped by life experiences\, memories\, and what is imagined. They evolve through a trial and error process of deliberation\, experimentation and improvisation. \nThey evolve through a trial and error process of deliberation\,experimentation\, and improvisation. Every change leads to a new discovery\, and the process continues layer by layer until I see something that seems to work. I am searching for an image that feels alive with movement. \n 
URL:https://nfws.org/event/march-members-meeting-and-demonstration-by-marilynne-bradley-on-zoom/
LOCATION:On Zoom
CATEGORIES:Artists' Talk,Demonstrations,Monthly Members Meeting,Transparent Watercolor,Watercolor demonstration
END:VEVENT
END:VCALENDAR