BEGIN:VCALENDAR
VERSION:2.0
PRODID:-//Niagara Frontier Watercolor Society - ECPv6.15.17.1//NONSGML v1.0//EN
CALSCALE:GREGORIAN
METHOD:PUBLISH
X-WR-CALNAME:Niagara Frontier Watercolor Society
X-ORIGINAL-URL:https://nfws.org
X-WR-CALDESC:Events for Niagara Frontier Watercolor Society
REFRESH-INTERVAL;VALUE=DURATION:PT1H
X-Robots-Tag:noindex
X-PUBLISHED-TTL:PT1H
BEGIN:VTIMEZONE
TZID:UTC
BEGIN:STANDARD
TZOFFSETFROM:+0000
TZOFFSETTO:+0000
TZNAME:UTC
DTSTART:20230101T000000
END:STANDARD
END:VTIMEZONE
BEGIN:VEVENT
DTSTART;TZID=UTC:20240418T190000
DTEND;TZID=UTC:20240418T210000
DTSTAMP:20260426T010038
CREATED:20240407T231916Z
LAST-MODIFIED:20240410T211640Z
UID:8846-1713466800-1713474000@nfws.org
SUMMARY:April 18th Members Meeting and Demonstration by Shelley Prior!
DESCRIPTION: \nAfter a brief Members Meeting catching us up on the Spring’s Events\, Exhibition\, etc.\, we will have the pleasure of a demonstration by Burlington\, Ontario artist and art instructor Shelley Prior!\n \n \n \nShelley is a full-time artist and art instructor. She has written that her watercolour painting style has evolved into a highly realistic style covering a variety of subjects which may include birds & wildlife\, nature\, portraits\, floral\, still life & landscape. Subjects with reflective qualities like glass and metal are especially intriguing to me. “I’m a very active instructor teaching regular classes as well as travelling to teach workshops throughout Ontario\, Canada and occasionally in the US which I’ve done for about 30 years. Although I paint in acrylic and oil as well\, my main medium is watercolour.”\nArtist Statement:\nI love the transparency and luminosity of watercolour. It’s something that is unique to only watercolour. Every subject presents new challenges and pushes me to try new techniques and different methods. Many years of experimentation (and yes\, lots of failures) have taught me to use quality materials and plan ahead in my painting\, as watercolours are less forgiving than other mediums. Every success is a real triumph though and I love to share what I’ve learned with other painters.\nLight is a crucial element in almost everything I paint. For me\, it’s the life of the painting. I always strive to have interesting lighting in my work and try to create it through the application of subtle glazes and deep rich shadows.\n\n\n 
URL:https://nfws.org/event/april-18th-members-meeting-and-demonstration-by-shelley-prior/
LOCATION:Amherst Community Church\, 77 Washington Hwy\, Buffalo\, 14226\, United States
ATTACH;FMTTYPE=image/png:https://nfws.org/wp-content/uploads/2023/01/Screen-Shot-2023-01-23-at-2.57.26-PM.png
END:VEVENT
END:VCALENDAR