BEGIN:VCALENDAR
VERSION:2.0
PRODID:-//Niagara Frontier Watercolor Society - ECPv6.15.17.1//NONSGML v1.0//EN
CALSCALE:GREGORIAN
METHOD:PUBLISH
X-WR-CALNAME:Niagara Frontier Watercolor Society
X-ORIGINAL-URL:https://nfws.org
X-WR-CALDESC:Events for Niagara Frontier Watercolor Society
REFRESH-INTERVAL;VALUE=DURATION:PT1H
X-Robots-Tag:noindex
X-PUBLISHED-TTL:PT1H
BEGIN:VTIMEZONE
TZID:UTC
BEGIN:STANDARD
TZOFFSETFROM:+0000
TZOFFSETTO:+0000
TZNAME:UTC
DTSTART:20230101T000000
END:STANDARD
END:VTIMEZONE
BEGIN:VEVENT
DTSTART;TZID=UTC:20241023T093000
DTEND;TZID=UTC:20241026T160000
DTSTAMP:20260425T155722
CREATED:20240805T131748Z
LAST-MODIFIED:20240930T134225Z
UID:9041-1729675800-1729958400@nfws.org
SUMMARY:NFWS 2024 Fall Workshop with Brienne Brown
DESCRIPTION:“Creating Dynamic Watercolors: Bringing the Everyday to Life”\nDates:            Wednesday October 23 to Saturday October 26\, 2024 \nLocation:      Taylor Theater Meeting Room at The Kenan Center in Lockport\, NY       (behind Kenan House – accessible ramp)\, 433 Locust St.\, Lockport\, NY 14094 \nTime:             9:30 am – 4:00 pm \nFee:               Members: $460          Non-Members: $500 \n\nTo for more information on the workshop and to register\, view and print the attached Registration Brochure: \nBrienne Brown Brochure \nAbout the Artist: \nMuch to her mother’s indignation\, Brienne owned little clothing that was not covered in paint.  From a young age\, Brienne showed talent in art and music\, but wanted to pursue a career in the sciences.  She started her education at the University of Utah as a double major (Art and Chemistry)\, eventually receiving a BS in Chemistry and finishing with a Master’s degree in 2004.  After graduation\, Brienne worked in a Toxicology lab.  Though she painted some by taking an occasional class\, as the years wore on\, she realized she wanted more art in her life than a career in science would allow.  She was surprised and delighted to find great fulfillment in painting.  In fact\, it became a necessity. \nAfter leaving her job as a toxicologist to raise her first child in 2008\, Brienne had the opportunity to paint more consistently.  Prioritizing painting and taking workshops from artists she admired paid off.  Soon she was not only exhibiting and entering shows regularly\, but also winning awards.  Brienne holds signature membership status for the National Watercolor Society\, American Impressionist Society\, and several other watercolor societies.  Every year\, she participates in several national juried and invitational plein air events\, teaches workshops all over the country\, and holds online courses.  She has won several top awards in many plein air and watercolor competitions across the country.  Her work has been published in Splash 17 Best of Watercolor:  Inspired Subjects\, PleinAir Magazine\, Southwest Art Magazine\, and Watercolor Artist Magazine. \nSee Brienne’s website: www.briennembrown.com for more information and images. \nCoordinators: Betty Stanton (stanton.elizabeth9@gmail.com) \n                           Jeanne Gugino (jeannegugino@icloud.com) \n 
URL:https://nfws.org/event/nfws-2024-fall-workshop-with-brienne-brown/
LOCATION:Kenan Center\, 433 Locust Street\, Lockport\, NY\, 14094\, United States
ATTACH;FMTTYPE=image/png:https://nfws.org/wp-content/uploads/2023/01/Screen-Shot-2023-01-23-at-2.57.26-PM.png
END:VEVENT
BEGIN:VEVENT
DTSTART;VALUE=DATE:20241024
DTEND;VALUE=DATE:20241025
DTSTAMP:20260425T155722
CREATED:20241007T221500Z
LAST-MODIFIED:20241007T221550Z
UID:9247-1729728000-1729814399@nfws.org
SUMMARY:October Demonstration by Workshop Artist Brienne Brown
DESCRIPTION:Because of a scheduling conflict at our usual in person meeting and demonstration venue\, the Amherst Community Church\, we will not be able to invite you all to see a demonstration by our Fall Workshop Artist\, Brienne Brown. We will\, however be able to videotape her demonstration\, and will post it on our Youtube Channel as soon as it is edited. We are so sorry that this anticipated Thursday night event has been cancelled\, but are grateful for technology and social media! We will send out an email with a link to the  video on our Niagara Frontier Watercolor Society Youtube Channel as soon as it is posted.
URL:https://nfws.org/event/october-demonstration-by-workshop-artist-brienne-brown/
LOCATION:Online on our YouTube Channel\, NY\, United States
ATTACH;FMTTYPE=image/png:https://nfws.org/wp-content/uploads/2023/01/Screen-Shot-2023-01-23-at-2.57.01-PM.png
END:VEVENT
END:VCALENDAR