BEGIN:VCALENDAR
VERSION:2.0
PRODID:-//Niagara Frontier Watercolor Society - ECPv6.15.17.1//NONSGML v1.0//EN
CALSCALE:GREGORIAN
METHOD:PUBLISH
X-ORIGINAL-URL:https://nfws.org
X-WR-CALDESC:Events for Niagara Frontier Watercolor Society
REFRESH-INTERVAL;VALUE=DURATION:PT1H
X-Robots-Tag:noindex
X-PUBLISHED-TTL:PT1H
BEGIN:VTIMEZONE
TZID:UTC
BEGIN:STANDARD
TZOFFSETFROM:+0000
TZOFFSETTO:+0000
TZNAME:UTC
DTSTART:20240101T000000
END:STANDARD
END:VTIMEZONE
BEGIN:VEVENT
DTSTART;TZID=UTC:20250705T080000
DTEND;TZID=UTC:20250815T233000
DTSTAMP:20260425T005438
CREATED:20250704T191521Z
LAST-MODIFIED:20250731T171748Z
UID:9775-1751702400-1755300600@nfws.org
SUMMARY:Submission Period\, Fall 2025 Members Watercolor Exhibition
DESCRIPTION:
URL:https://nfws.org/event/submission-period-fall-2025-members-watercolor-exhibition/
ATTACH;FMTTYPE=image/png:https://nfws.org/wp-content/uploads/2023/01/Screen-Shot-2023-01-23-at-2.57.26-PM.png
END:VEVENT
END:VCALENDAR